BEGIN:VCALENDAR
VERSION:2.0
PRODID:-//Plone.org//NONSGML plone.app.event//EN
X-WR-TIMEZONE:America/Chicago
BEGIN:VEVENT
SUMMARY:Rediscover Downtown Stevens Point
DTSTART;TZID=America/Chicago;VALUE=DATE-TIME:20190914T100000
DTEND;TZID=America/Chicago;VALUE=DATE-TIME:20190914T160000
DTSTAMP;VALUE=DATE-TIME:20260423T103233Z
UID:59262da6d5634592b43e43ebb2cab78f
CONTACT:https://feedback.facebook.com/events/693653671394556/
CREATED;VALUE=DATE-TIME:20190906T125752Z
DESCRIPTION:Family friendly fun event for everyone! Live music\, food and 
 more for all ages!
LAST-MODIFIED;VALUE=DATE-TIME:20190906T130118Z
LOCATION:Downtown Square\, Stevens Point\, WI
URL:https://downtownstevenspoint.org/events/rediscover-downtown-stevens-po
 int
END:VEVENT
BEGIN:VTIMEZONE
TZID:America/Chicago
X-LIC-LOCATION:America/Chicago
BEGIN:DAYLIGHT
DTSTART;VALUE=DATE-TIME:20190310T030000
TZNAME:CDT
TZOFFSETFROM:-0600
TZOFFSETTO:-0500
END:DAYLIGHT
END:VTIMEZONE
END:VCALENDAR
