BEGIN:VCALENDAR
VERSION:2.0
PRODID:-//Plone.org//NONSGML plone.app.event//EN
X-WR-TIMEZONE:America/Chicago
BEGIN:VEVENT
SUMMARY:Movies in the Park
DTSTART;TZID=America/Chicago;VALUE=DATE-TIME:20190614T180000
DTEND;TZID=America/Chicago;VALUE=DATE-TIME:20190816T210000
DTSTAMP;VALUE=DATE-TIME:20260422T164252Z
UID:b5ad8bbc30034eabace7632e2a3b65e1
CATEGORIES:summer
CATEGORIES:movies
CATEGORIES:downtown
CATEGORIES:stevens point
CONTACT:Stevens Point Area YMCA\, (715) 342 - 2980\, https://www.facebook.
 com/moviesintheparkpc/
CREATED;VALUE=DATE-TIME:20190703T195527Z
DESCRIPTION:Movies in the park is a FREE family-friendly event held in Pfi
 ffner Pioneer Park in Stevens Point\, WI hosted by the Stevens Point Area 
 YMCA
LAST-MODIFIED;VALUE=DATE-TIME:20190729T175136Z
LOCATION:Pfiffner Pioneer Park\, 1100 Crossby Avenue\, Stevens Point\, WI
URL:https://downtownstevenspoint.org/events/movies-in-the-park
END:VEVENT
BEGIN:VTIMEZONE
TZID:America/Chicago
X-LIC-LOCATION:America/Chicago
BEGIN:DAYLIGHT
DTSTART;VALUE=DATE-TIME:20190310T030000
TZNAME:CDT
TZOFFSETFROM:-0600
TZOFFSETTO:-0500
END:DAYLIGHT
END:VTIMEZONE
END:VCALENDAR
