BEGIN:VCALENDAR
VERSION:2.0
PRODID:-//Plone.org//NONSGML plone.app.event//EN
X-WR-TIMEZONE:America/Chicago
BEGIN:VEVENT
SUMMARY:Dozynki Downtown and Harvest Fest
DTSTART;TZID=America/Chicago;VALUE=DATE-TIME:20190914T100000
DTEND;TZID=America/Chicago;VALUE=DATE-TIME:20190915T180000
DTSTAMP;VALUE=DATE-TIME:20260423T121017Z
UID:a40ef094723945648808f531897a87c6
CATEGORIES:festival
CATEGORIES:stevens point
CATEGORIES:polish
CONTACT:Polish Heritage Awareness Society\, (715) 340 - 3259\, http://www.
 polishheritageawareness.com/2019-dozynki.html
CREATED;VALUE=DATE-TIME:20190729T181947Z
DESCRIPTION:Join us for polish music\, dancing\, food and children's event
 s!
LAST-MODIFIED;VALUE=DATE-TIME:20190729T182834Z
LOCATION:Main St\, Stevens Point\, WI
URL:https://downtownstevenspoint.org/events/dozynki-downtown-and-harvest-f
 est
END:VEVENT
BEGIN:VTIMEZONE
TZID:America/Chicago
X-LIC-LOCATION:America/Chicago
BEGIN:DAYLIGHT
DTSTART;VALUE=DATE-TIME:20190310T030000
TZNAME:CDT
TZOFFSETFROM:-0600
TZOFFSETTO:-0500
END:DAYLIGHT
END:VTIMEZONE
END:VCALENDAR
