BEGIN:VCALENDAR
VERSION:2.0
PRODID:-//Plone.org//NONSGML plone.app.event//EN
X-WR-TIMEZONE:America/Chicago
BEGIN:VEVENT
SUMMARY:4th of July Parade
DTSTART;TZID=America/Chicago;VALUE=DATE-TIME:20190704T120000
DTEND;TZID=America/Chicago;VALUE=DATE-TIME:20190704T130000
DTSTAMP;VALUE=DATE-TIME:20260425T004502Z
UID:405782bbda9e4171841afc5377466f6e
CONTACT:https://www.downtownpointwi.com/events/2019/4/26/4th-of-july-parad
 e-2019-stevens-point?fbclid=IwAR1dDv_JlJA9SzaN5lfpjC6o1WP5w2Anmedgf8QzMHi4
 XHGTUf7uiaT2h8Y
CREATED;VALUE=DATE-TIME:20190703T202810Z
DESCRIPTION:The annual Downtown Point 4th of July Parade gathers local par
 ticipants\, from local businesses to nonprofit organizations\, all in prop
 er decor to celebrate the 4th of July
LAST-MODIFIED;VALUE=DATE-TIME:20190729T174833Z
LOCATION:1001 Main St\, Stevens Point\, WI
URL:https://downtownstevenspoint.org/events/4th-of-july-parade
END:VEVENT
BEGIN:VTIMEZONE
TZID:America/Chicago
X-LIC-LOCATION:America/Chicago
BEGIN:DAYLIGHT
DTSTART;VALUE=DATE-TIME:20190310T030000
TZNAME:CDT
TZOFFSETFROM:-0600
TZOFFSETTO:-0500
END:DAYLIGHT
END:VTIMEZONE
END:VCALENDAR
